BEGIN:VCALENDAR
VERSION:2.0
PRODID:-//Tukios.com/
BEGIN:VEVENT
UID:8438bb6c-2da9-4b42-9f7e-395dcd3d2eb2@www.navefuneralhomes.com
DTSTAMP:20260420T222537Z
DTSTART:20260424T190000Z
DTEND:20260424T200000Z
SUMMARY:Burial
DESCRIPTION:
URL:https://www.navefuneralhomes.com/obituaries/michael-scott-miller
LOCATION: 5817 Fort Campbell Boulevard  Hopkinsville KY 42240
GEO:36.7967779;-87.4764843
END:VEVENT
END:VCALENDAR