BEGIN:VCALENDAR
VERSION:2.0
PRODID:-//Tukios.com/
BEGIN:VEVENT
UID:8cc9442c-8c82-4308-8165-8b2d07d98968@www.navefuneralhomes.com
DTSTAMP:20260420T222805Z
DTSTART:20260424T170000Z
DTEND:20260424T180000Z
SUMMARY:Celebration of Life
DESCRIPTION:
URL:https://www.navefuneralhomes.com/obituaries/michael-scott-miller
LOCATION: 1209 Madison St  Clarksville TN 37040
GEO:36.5253224;-87.3427283
END:VEVENT
END:VCALENDAR