BEGIN:VCALENDAR
VERSION:2.0
PRODID:-//Tukios.com/
BEGIN:VEVENT
UID:e533f106-4b36-40f0-afaa-ce36b9525898@www.navefuneralhomes.com
DTSTAMP:20260420T222719Z
DTSTART:20260424T160000Z
DTEND:20260424T170000Z
SUMMARY:Visitation
DESCRIPTION:
URL:https://www.navefuneralhomes.com/obituaries/michael-scott-miller
LOCATION: 1209 Madison St  Clarksville TN 37040
GEO:36.5253224;-87.3427283
END:VEVENT
END:VCALENDAR