BEGIN:VCALENDAR
VERSION:2.0
PRODID:-//Tukios.com/
BEGIN:VEVENT
UID:75648db2-45f9-43d9-93ad-e72070b95e47@www.navefuneralhomes.com
DTSTAMP:20260420T222613Z
DTSTART:20260423T210000Z
DTEND:20260424T000000Z
SUMMARY:Visitation
DESCRIPTION:
URL:https://www.navefuneralhomes.com/obituaries/michael-scott-miller
LOCATION: 1209 Madison St  Clarksville TN 37040
GEO:36.5253224;-87.3427283
END:VEVENT
END:VCALENDAR