BEGIN:VCALENDAR
VERSION:2.0
PRODID:-//Tukios.com/
BEGIN:VEVENT
UID:f70210f0-c429-47a3-b80e-baf58e6046ec@www.navefuneralhomes.com
DTSTAMP:20260424T010622Z
DTSTART:20260428T150000Z
DTEND:20260428T190000Z
SUMMARY:Visitation
DESCRIPTION:
URL:https://www.navefuneralhomes.com/obituaries/louis-schmidt
LOCATION: 4639 W Main St  Erin TN 37061
GEO:36.3184157;-87.6955134
END:VEVENT
END:VCALENDAR