BEGIN:VCALENDAR
VERSION:2.0
PRODID:-//Tukios.com/
BEGIN:VEVENT
UID:82e181c5-fb22-4e60-8bfa-fa9af4cae864@www.navefuneralhomes.com
DTSTAMP:20260424T010601Z
DTSTART:20260428T190000Z
DTEND:20260428T200000Z
SUMMARY:Celebration of Life
DESCRIPTION:
URL:https://www.navefuneralhomes.com/obituaries/louis-schmidt
LOCATION:Chapel of Nave Funeral Home 4639 West Main Street  Erin TN 37061
GEO:36.3184157;-87.6955134
END:VEVENT
END:VCALENDAR