BEGIN:VCALENDAR
VERSION:2.0
PRODID:-//Tukios.com/
BEGIN:VEVENT
UID:1e9c36e4-bf48-4553-8746-2ff1ba5525da@www.navefuneralhomes.com
DTSTAMP:20260420T201059Z
DTSTART:20260422
SUMMARY:Burial
DESCRIPTION:
URL:https://www.navefuneralhomes.com/obituaries/john-raymond-carson
LOCATION:    Clarksville TN 37043
GEO:36.5128173;-87.2419299
END:VEVENT
END:VCALENDAR