BEGIN:VCALENDAR
VERSION:2.0
PRODID:-//Tukios.com/
BEGIN:VEVENT
UID:d21012fd-71b9-43ef-9c02-bd0619d61b40@www.navefuneralhomes.com
DTSTAMP:20260420T201151Z
DTSTART:20260422T150000Z
DTEND:20260422T160000Z
SUMMARY:Visitation
DESCRIPTION:
URL:https://www.navefuneralhomes.com/obituaries/john-raymond-carson
LOCATION:McReynolds-Nave & Larson Funeral Home 1209 Madison Street  
	Clarksville TN 37040
GEO:36.5253224;-87.3427283
END:VEVENT
END:VCALENDAR