BEGIN:VCALENDAR
VERSION:2.0
PRODID:-//Tukios.com/
BEGIN:VEVENT
UID:eedd05e7-7667-469e-9267-04e376d50464@www.navefuneralhomes.com
DTSTAMP:20260420T201319Z
DTSTART:20260421T210000Z
DTEND:20260422T000000Z
SUMMARY:Visitation
DESCRIPTION:
URL:https://www.navefuneralhomes.com/obituaries/john-raymond-carson
LOCATION:McReynolds-Nave & Larson Funeral Home 1209 Madison Street  
	Clarksville TN 37040
GEO:36.5253224;-87.3427283
END:VEVENT
END:VCALENDAR