BEGIN:VCALENDAR
VERSION:2.0
PRODID:-//Tukios.com/
BEGIN:VEVENT
UID:5da30024-96c6-41da-a698-675be6285aae@www.navefuneralhomes.com
DTSTAMP:20260424T235712Z
DTSTART:20260429T180000Z
DTEND:20260429T190000Z
SUMMARY:Celebration of Life
DESCRIPTION:
URL:https://www.navefuneralhomes.com/obituaries/edward-brooks
LOCATION:Nave Funeral Home 4639 W Main St  Erin TN 37061
GEO:36.3184157;-87.6955134
END:VEVENT
END:VCALENDAR