BEGIN:VCALENDAR
VERSION:2.0
PRODID:-//Tukios.com/
BEGIN:VEVENT
UID:36a5e06e-3083-467f-9317-195d19a9f2ff@www.navefuneralhomes.com
DTSTAMP:20260424T235605Z
DTSTART:20260429T140000Z
DTEND:20260429T180000Z
SUMMARY:Visitation
DESCRIPTION:
URL:https://www.navefuneralhomes.com/obituaries/edward-brooks
LOCATION: 4639 W Main St  Erin TN 37061
GEO:36.3184157;-87.6955134
END:VEVENT
END:VCALENDAR