BEGIN:VCALENDAR
VERSION:2.0
PRODID:-//Tukios.com/
BEGIN:VEVENT
UID:9791ac14-7022-428b-b7ec-2a7fdd2ed35c@www.navefuneralhomes.com
DTSTAMP:20260424T235543Z
DTSTART:20260428T220000Z
DTEND:20260429T010000Z
SUMMARY:Visitation
DESCRIPTION:
URL:https://www.navefuneralhomes.com/obituaries/edward-brooks
LOCATION: 4639 W Main St  Erin TN 37061
GEO:36.3184157;-87.6955134
END:VEVENT
END:VCALENDAR