BEGIN:VCALENDAR
VERSION:2.0
PRODID:-//Tukios.com/
BEGIN:VEVENT
UID:93b239b4-f056-42c0-890d-442ec9210434@www.navefuneralhomes.com
DTSTAMP:20260421T194819Z
DTSTART:20260424T160000Z
DTEND:20260424T170000Z
SUMMARY:Funeral Service
DESCRIPTION:
URL:https://www.navefuneralhomes.com/obituaries/debbie-griffith
LOCATION:Immaculate Conception Catholic Church Chapel 709 Franklin St.  
	Clarksville TN 37040
GEO:36.5296328;-87.3510193
END:VEVENT
END:VCALENDAR