BEGIN:VCALENDAR
VERSION:2.0
PRODID:-//Tukios.com/
BEGIN:VEVENT
UID:ec2f6b7c-8316-4463-b5f1-5fd13a906748@www.navefuneralhomes.com
DTSTAMP:20260421T194733Z
DTSTART:20260424T140000Z
DTEND:20260424T153000Z
SUMMARY:Visitation
DESCRIPTION:
URL:https://www.navefuneralhomes.com/obituaries/debbie-griffith
LOCATION:Immaculate Conception Catholic Church Chapel 709 Franklin St.  
	Clarksville TN 37040
GEO:36.5296328;-87.3510193
END:VEVENT
END:VCALENDAR